BEGIN:VCALENDAR
VERSION:2.0
PRODID:-//Friends of China Camp - ECPv6.15.20//NONSGML v1.0//EN
CALSCALE:GREGORIAN
METHOD:PUBLISH
X-ORIGINAL-URL:https://friendsofchinacamp.org
X-WR-CALDESC:Events for Friends of China Camp
REFRESH-INTERVAL;VALUE=DURATION:PT1H
X-Robots-Tag:noindex
X-PUBLISHED-TTL:PT1H
BEGIN:VTIMEZONE
TZID:America/Los_Angeles
BEGIN:DAYLIGHT
TZOFFSETFROM:-0800
TZOFFSETTO:-0700
TZNAME:PDT
DTSTART:20170312T100000
END:DAYLIGHT
BEGIN:STANDARD
TZOFFSETFROM:-0700
TZOFFSETTO:-0800
TZNAME:PST
DTSTART:20171105T090000
END:STANDARD
BEGIN:DAYLIGHT
TZOFFSETFROM:-0800
TZOFFSETTO:-0700
TZNAME:PDT
DTSTART:20180311T100000
END:DAYLIGHT
BEGIN:STANDARD
TZOFFSETFROM:-0700
TZOFFSETTO:-0800
TZNAME:PST
DTSTART:20181104T090000
END:STANDARD
BEGIN:DAYLIGHT
TZOFFSETFROM:-0800
TZOFFSETTO:-0700
TZNAME:PDT
DTSTART:20190310T100000
END:DAYLIGHT
BEGIN:STANDARD
TZOFFSETFROM:-0700
TZOFFSETTO:-0800
TZNAME:PST
DTSTART:20191103T090000
END:STANDARD
END:VTIMEZONE
BEGIN:VEVENT
DTSTART;TZID=America/Los_Angeles:20181014T080000
DTEND;TZID=America/Los_Angeles:20181014T100000
DTSTAMP:20260423T103230
CREATED:20181004T220257Z
LAST-MODIFIED:20181004T220257Z
UID:1894-1539504000-1539511200@friendsofchinacamp.org
SUMMARY:Migratory Bird Walk
DESCRIPTION:  \nBring your binoculars on this stimulating hike as we explore the lives of the migratory birds at China Camp as they make their way north for the winter. We will talk about the different species of birds that make long\, medium and short migrations. Also\, we will learn about how resource availability drives population abundance\, feeding\, and colonial behavior \nBirding beginners welcome! \n  \nBring a pair of binoculars\, pen and notebook.  Also please bring snacks\, water and good walking shoes.  \n  \nJerry Coe is a naturalist and mountaineering guide with over 8 years of intensive training in ornithological identification. He spent 15 years as a volunteer in the Great Basin\, Nevada doing “Point Count surveys” to study health of habitats and has lead guided expeditions all over the world. \n  \n Sunday Oct 14th\, 8am-10am \nCost for both events: Members: Free \n                                      Non-Members:$5 \n  \n To find out the meeting locations please RSVP. Space is limited and reservations are required.   To reserve\, send email to: chinacamp.programs@gmail.com\, or call \n(415) 456-0766. Please indicate a) the date of the program you would like to reserve b) your name\, c) your phone number\, d) the total number of places you are reserving. \nWe will reply to confirm your reservation.
URL:https://friendsofchinacamp.org/event/migratory-bird-walk/
END:VEVENT
BEGIN:VEVENT
DTSTART;TZID=America/Los_Angeles:20181014T090000
DTEND;TZID=America/Los_Angeles:20181014T130000
DTSTAMP:20260423T103230
CREATED:20181004T161502Z
LAST-MODIFIED:20181004T161502Z
UID:1888-1539507600-1539522000@friendsofchinacamp.org
SUMMARY:Park Champions Work Morning
DESCRIPTION:It doesn’t happen often\, but once in a while our hard work gets wrecked. Recently the split rail fencing at one of our popular picnic areas was vandalized and we need volunteers to help us make the repairs. Depending on the number of volunteers\, we may also be removing invasive plants and doing some painting. Your help would be appreciated. \nLunch is provided. Limited free camping is available to registered volunteers. Ages 14 and up are welcome. \nTo register\, please go to the California State Parks Foundation website. Once you are registered\, they will send additional information about where to meet\, what to bring (in addition to your smiles and volunteer spirit) and what to wear. Your registration helps us prepare for equipment\, supplies and\, of course\, food. \nIn general\, our work days are quite successful and often entertaining. Join us and meet new people who\, like you\, care about our parks. To get a flavor of our work day events see the FOCC photo gallery.
URL:https://friendsofchinacamp.org/event/park-champions-work-morning-6/
END:VEVENT
BEGIN:VEVENT
DTSTART;TZID=America/Los_Angeles:20181014T123000
DTEND;TZID=America/Los_Angeles:20181014T150000
DTSTAMP:20260423T103230
CREATED:20180927T195847Z
LAST-MODIFIED:20180927T195847Z
UID:1881-1539520200-1539529200@friendsofchinacamp.org
SUMMARY:Sunday Hikes with a Naturalist
DESCRIPTION:  GUIDED HIKING PROGRAM\nExplore China Camp With a Naturalist \nLearn about the abundant wildlife in the area. \nSee amazing views of the park. \nGet Outside and exercise by the glittering bay. \nJoin naturalist  Harold Hirsch for guided Sunday morning hikes at China Camp. \nMost hikes range from easy to moderate\, ranging from 1.5 to 2 miles. Please bring appropriate hiking gear\, warm clothing water\, snacks\, sunscreen and a hat. \n\n  \n\n10/7 Turtleback Trailhead-12:30pm  Easy Family Friendly hike. 1 mile.\n10/14  Beechwood Ct. & Heartwood Ct. Intersection- 12:30pm . Challenging. 6 miles. 1000 ft elevation gain.\n\n\n10/21  Back ranch meadows- 12:30pm  Advanced.  4.5 miles\, 500 ft elevation gain\n\n\n10/28 Beechwood Ct. & Heartwood Ct. Intersection- 12:30pm . Challenging. 6 miles. 1000 ft elevation gain.\n\n  \nThis hike is brought to you by Friends of China Camp. If you are bringing more than 5 people\, please RSVP to chinacamp.programs@gmail.com or (415)456-0766\, otherwise you can just show up!
URL:https://friendsofchinacamp.org/event/sunday-hikes-with-a-naturalist-2/
END:VEVENT
END:VCALENDAR