BEGIN:VCALENDAR
VERSION:2.0
PRODID:-//Friends of China Camp - ECPv6.15.20//NONSGML v1.0//EN
CALSCALE:GREGORIAN
METHOD:PUBLISH
X-WR-CALNAME:Friends of China Camp
X-ORIGINAL-URL:https://friendsofchinacamp.org
X-WR-CALDESC:Events for Friends of China Camp
REFRESH-INTERVAL;VALUE=DURATION:PT1H
X-Robots-Tag:noindex
X-PUBLISHED-TTL:PT1H
BEGIN:VTIMEZONE
TZID:America/Los_Angeles
BEGIN:DAYLIGHT
TZOFFSETFROM:-0800
TZOFFSETTO:-0700
TZNAME:PDT
DTSTART:20180311T100000
END:DAYLIGHT
BEGIN:STANDARD
TZOFFSETFROM:-0700
TZOFFSETTO:-0800
TZNAME:PST
DTSTART:20181104T090000
END:STANDARD
BEGIN:DAYLIGHT
TZOFFSETFROM:-0800
TZOFFSETTO:-0700
TZNAME:PDT
DTSTART:20190310T100000
END:DAYLIGHT
BEGIN:STANDARD
TZOFFSETFROM:-0700
TZOFFSETTO:-0800
TZNAME:PST
DTSTART:20191103T090000
END:STANDARD
BEGIN:DAYLIGHT
TZOFFSETFROM:-0800
TZOFFSETTO:-0700
TZNAME:PDT
DTSTART:20200308T100000
END:DAYLIGHT
BEGIN:STANDARD
TZOFFSETFROM:-0700
TZOFFSETTO:-0800
TZNAME:PST
DTSTART:20201101T090000
END:STANDARD
END:VTIMEZONE
BEGIN:VEVENT
DTSTART;TZID=America/Los_Angeles:20190421T100000
DTEND;TZID=America/Los_Angeles:20190421T120000
DTSTAMP:20260424T061115
CREATED:20190319T221211Z
LAST-MODIFIED:20190319T221211Z
UID:2085-1555840800-1555848000@friendsofchinacamp.org
SUMMARY:Easter Turtleback Hike for Kids!
DESCRIPTION:Easter Turtleback Hike \nfor Kids!\nGo on a fun hike around Turtleback trail and explore the beauty of nature on Easter Sunday. Rather than Easter eggs\, we’ll spot wildflowers\, nesting birds\, and butterflies!  \n\nPlease bring appropriate hiking gear\, water\, a hat and sunscreen. Adults must accompany children.  \n  \nDate: April 21st\, 2019 \nTime: 10am-12pm \nLocation: Turtleback Trailhead. (Directions will be provided in email response) \n  \nSpace is limited and reservations are required. \nTo reserve\, send email to: \nchinacamp.programs@gmail.com or call (415) 456-0766 \nInclude your name and the number of people attending. \nWe will reply to confirm your reservation. \nCancellation announcements will be posted on the FOCC website homepage.
URL:https://friendsofchinacamp.org/event/easter-turtleback-hike-for-kids/
END:VEVENT
END:VCALENDAR