BEGIN:VCALENDAR
VERSION:2.0
PRODID:-//Friends of China Camp - ECPv6.15.20//NONSGML v1.0//EN
CALSCALE:GREGORIAN
METHOD:PUBLISH
X-WR-CALNAME:Friends of China Camp
X-ORIGINAL-URL:https://friendsofchinacamp.org
X-WR-CALDESC:Events for Friends of China Camp
REFRESH-INTERVAL;VALUE=DURATION:PT1H
X-Robots-Tag:noindex
X-PUBLISHED-TTL:PT1H
BEGIN:VTIMEZONE
TZID:America/Los_Angeles
BEGIN:DAYLIGHT
TZOFFSETFROM:-0800
TZOFFSETTO:-0700
TZNAME:PDT
DTSTART:20210314T100000
END:DAYLIGHT
BEGIN:STANDARD
TZOFFSETFROM:-0700
TZOFFSETTO:-0800
TZNAME:PST
DTSTART:20211107T090000
END:STANDARD
BEGIN:DAYLIGHT
TZOFFSETFROM:-0800
TZOFFSETTO:-0700
TZNAME:PDT
DTSTART:20220313T100000
END:DAYLIGHT
BEGIN:STANDARD
TZOFFSETFROM:-0700
TZOFFSETTO:-0800
TZNAME:PST
DTSTART:20221106T090000
END:STANDARD
BEGIN:DAYLIGHT
TZOFFSETFROM:-0800
TZOFFSETTO:-0700
TZNAME:PDT
DTSTART:20230312T100000
END:DAYLIGHT
BEGIN:STANDARD
TZOFFSETFROM:-0700
TZOFFSETTO:-0800
TZNAME:PST
DTSTART:20231105T090000
END:STANDARD
END:VTIMEZONE
BEGIN:VEVENT
DTSTART;TZID=America/Los_Angeles:20220101T063000
DTEND;TZID=America/Los_Angeles:20220101T083000
DTSTAMP:20260423T103008
CREATED:20211110T050110Z
LAST-MODIFIED:20211118T234235Z
UID:4423-1641018600-1641025800@friendsofchinacamp.org
SUMMARY:New Year's Day Sunrise Hike
DESCRIPTION:Sunrise by Sheila Coll\nWant to celebrate the new year in a profound way? Then come with us to ring in 2022 under the open sky as we watch the sunrise over San Pablo Bay.  \nJoin naturalist Harold Hirsch for this 4-mile sunrise hike to a vista point to welcome the first golden light of the year. Refreshments will be served afterwards. \nHarold Hirsch has been a naturalist for China Camp for over seven years. He has extensive research and knowledge about geology\, natural history and botany at China Camp. \n  \n  \nDate: Saturday\, January 1\, 2022 \nTime: 6:30 a.m. – 8:30 a. m. \nLocation: Details emailed to you when you register.  \n Difficulty: Moderate; 4 miles round trip \n  \nREGISTER HERE \n  \nSpace is limited; reservations required.  \nFree (donations appreciated). \nCancellations notified via email. \nQuestions? Email programs@friendsofchinacamp.org or call (415) 456-0766. \n 
URL:https://friendsofchinacamp.org/event/new-years-day-sunrise-hike/
END:VEVENT
END:VCALENDAR