BEGIN:VCALENDAR
VERSION:2.0
PRODID:-//Friends of China Camp - ECPv6.15.20//NONSGML v1.0//EN
CALSCALE:GREGORIAN
METHOD:PUBLISH
X-WR-CALNAME:Friends of China Camp
X-ORIGINAL-URL:https://friendsofchinacamp.org
X-WR-CALDESC:Events for Friends of China Camp
REFRESH-INTERVAL;VALUE=DURATION:PT1H
X-Robots-Tag:noindex
X-PUBLISHED-TTL:PT1H
BEGIN:VTIMEZONE
TZID:America/Los_Angeles
BEGIN:DAYLIGHT
TZOFFSETFROM:-0800
TZOFFSETTO:-0700
TZNAME:PDT
DTSTART:20210314T100000
END:DAYLIGHT
BEGIN:STANDARD
TZOFFSETFROM:-0700
TZOFFSETTO:-0800
TZNAME:PST
DTSTART:20211107T090000
END:STANDARD
BEGIN:DAYLIGHT
TZOFFSETFROM:-0800
TZOFFSETTO:-0700
TZNAME:PDT
DTSTART:20220313T100000
END:DAYLIGHT
BEGIN:STANDARD
TZOFFSETFROM:-0700
TZOFFSETTO:-0800
TZNAME:PST
DTSTART:20221106T090000
END:STANDARD
BEGIN:DAYLIGHT
TZOFFSETFROM:-0800
TZOFFSETTO:-0700
TZNAME:PDT
DTSTART:20230312T100000
END:DAYLIGHT
BEGIN:STANDARD
TZOFFSETFROM:-0700
TZOFFSETTO:-0800
TZNAME:PST
DTSTART:20231105T090000
END:STANDARD
END:VTIMEZONE
BEGIN:VEVENT
DTSTART;TZID=America/Los_Angeles:20220130T190000
DTEND;TZID=America/Los_Angeles:20220130T200000
DTSTAMP:20260422T160357
CREATED:20220103T161215Z
LAST-MODIFIED:20220104T044014Z
UID:4507-1643569200-1643572800@friendsofchinacamp.org
SUMMARY:Online: Naturalist Book Club
DESCRIPTION:THE WINDS OF CHANGE BY EUGENE LINDEN \nJoin this online event for what promises to be a lively conversation about this well-researched and fascinating discussion of nature\, history\, and civilizations. \n\nJoin this month’s online naturalist book club as we discuss The Winds of Change. Author and journalist Eugene Linden delves into new research exploring the connections between climate events and the rise and abrupt fall of the Akkadians in the Middle East\, the Mayans in South America\, and the Vikings’ foothold in North America. Linden notes\, “Scientific disciplines have an immune system that initially rejects novel ideas and archaeology…(I)t is particularly sensitive to explanations that emphasize the role of ecology and minimize the role of human ingenuity.” Linden provides an overview of the known causes of cyclic climate changes from solar output to natural variations in the Earth’s orbit and rotation (Milankovitch cycles)\, including El Niño and La Niña events. Linden also touches on the apparent rapidity in which some of those changes occurred and what implications that may have for our time.  \n  \nDate: Sunday\, January 30 \nTime: 7 p.m. – 8 p.m. \nVenue: Zoom meeting (details emailed once space is reserved). \n  \nREGISTER HERE\n  \nSpace limited; reservations required. \nFree (donations appreciated). \nCancellations notified via email. \nQuestions? Email programs@friendsofchinacamp.org or call (415) 456-0766.
URL:https://friendsofchinacamp.org/event/online-naturalist-book-club-6/
END:VEVENT
END:VCALENDAR