BEGIN:VCALENDAR
VERSION:2.0
PRODID:-//Friends of China Camp - ECPv6.15.20//NONSGML v1.0//EN
CALSCALE:GREGORIAN
METHOD:PUBLISH
X-ORIGINAL-URL:https://friendsofchinacamp.org
X-WR-CALDESC:Events for Friends of China Camp
REFRESH-INTERVAL;VALUE=DURATION:PT1H
X-Robots-Tag:noindex
X-PUBLISHED-TTL:PT1H
BEGIN:VTIMEZONE
TZID:America/Los_Angeles
BEGIN:DAYLIGHT
TZOFFSETFROM:-0800
TZOFFSETTO:-0700
TZNAME:PDT
DTSTART:20210314T100000
END:DAYLIGHT
BEGIN:STANDARD
TZOFFSETFROM:-0700
TZOFFSETTO:-0800
TZNAME:PST
DTSTART:20211107T090000
END:STANDARD
BEGIN:DAYLIGHT
TZOFFSETFROM:-0800
TZOFFSETTO:-0700
TZNAME:PDT
DTSTART:20220313T100000
END:DAYLIGHT
BEGIN:STANDARD
TZOFFSETFROM:-0700
TZOFFSETTO:-0800
TZNAME:PST
DTSTART:20221106T090000
END:STANDARD
BEGIN:DAYLIGHT
TZOFFSETFROM:-0800
TZOFFSETTO:-0700
TZNAME:PDT
DTSTART:20230312T100000
END:DAYLIGHT
BEGIN:STANDARD
TZOFFSETFROM:-0700
TZOFFSETTO:-0800
TZNAME:PST
DTSTART:20231105T090000
END:STANDARD
END:VTIMEZONE
BEGIN:VEVENT
DTSTART;VALUE=DATE:20220211
DTEND;VALUE=DATE:20220215
DTSTAMP:20260422T181449
CREATED:20220205T191714Z
LAST-MODIFIED:20220226T053309Z
UID:4628-1644537600-1644883199@friendsofchinacamp.org
SUMMARY:Trail Closures In Effect
DESCRIPTION:From February 11 to 13\, portions of Shoreline Trail will be closed for restoration. The Friends of China Camp volunteer trail team will be restoring the handicap-accessible portion of Shoreline Trail\, to ensure equitable access for people with mobility disabilities. \nPlease stay off closed areas\, trespassing could risk disturbing the sensitive trail conditions. Trail restoration takes hundreds of hours of volunteer time and park financial resources\, please be respectful and stay on the trail. \nTake note of the detours in the maps below. \nTHIS MAP INDICATES THE CLOSURES AND DETOURS FROM 2/11 THROUGH 2/12.  \n\nSHORELINE TRAIL WILL BE CLOSED FROM CAMPSITES #1 AND #2 NORTHBOUNS TO THE TURTLE BACK TRAILHEAD\, AND SOUTHBOUND THE INTERSECTION WITH BACK RANCH FIRE ROAD. \n  \n  \n  \n  \n  \n  \n  \nTHIS MAP INDICATES THE CLOSURE STARTING 2/13. \n\nTHE PATH CONNECTING CAMPSITES #1 AND #2 TO SHORELINE TRAIL WILL BE CLOSED UNTIL FURTHER NOTICE. PLEASE STAY OFF THIS TRAIL.
URL:https://friendsofchinacamp.org/event/trail-closures-in-effect/
END:VEVENT
END:VCALENDAR