BEGIN:VCALENDAR
VERSION:2.0
PRODID:-//Friends of China Camp - ECPv6.15.20//NONSGML v1.0//EN
CALSCALE:GREGORIAN
METHOD:PUBLISH
X-ORIGINAL-URL:https://friendsofchinacamp.org
X-WR-CALDESC:Events for Friends of China Camp
REFRESH-INTERVAL;VALUE=DURATION:PT1H
X-Robots-Tag:noindex
X-PUBLISHED-TTL:PT1H
BEGIN:VTIMEZONE
TZID:America/Los_Angeles
BEGIN:DAYLIGHT
TZOFFSETFROM:-0800
TZOFFSETTO:-0700
TZNAME:PDT
DTSTART:20210314T100000
END:DAYLIGHT
BEGIN:STANDARD
TZOFFSETFROM:-0700
TZOFFSETTO:-0800
TZNAME:PST
DTSTART:20211107T090000
END:STANDARD
BEGIN:DAYLIGHT
TZOFFSETFROM:-0800
TZOFFSETTO:-0700
TZNAME:PDT
DTSTART:20220313T100000
END:DAYLIGHT
BEGIN:STANDARD
TZOFFSETFROM:-0700
TZOFFSETTO:-0800
TZNAME:PST
DTSTART:20221106T090000
END:STANDARD
BEGIN:DAYLIGHT
TZOFFSETFROM:-0800
TZOFFSETTO:-0700
TZNAME:PDT
DTSTART:20230312T100000
END:DAYLIGHT
BEGIN:STANDARD
TZOFFSETFROM:-0700
TZOFFSETTO:-0800
TZNAME:PST
DTSTART:20231105T090000
END:STANDARD
END:VTIMEZONE
BEGIN:VEVENT
DTSTART;TZID=America/Los_Angeles:20220227T190000
DTEND;TZID=America/Los_Angeles:20220227T200000
DTSTAMP:20260422T160804
CREATED:20220121T053611Z
LAST-MODIFIED:20220226T053139Z
UID:4601-1645988400-1645992000@friendsofchinacamp.org
SUMMARY:Naturalist Book Club
DESCRIPTION:ENTANGLED LIFE BY MERLIN SHELDRAKE \nJoin us for this month’s Naturalist Book Club as we discuss the New York Times bestseller Entangled Life by Merlin Sheldrake via Zoom.  \nTo most humans\, fungi are seemingly limited to the dichotomy of being either beneficial as food and medicine or as a poisonous threat. Often overlooked is the much deeper relationship of dependency that we\, and the majority of life on earth\, have on the day-to-day operations of this diverse kingdom of organisms. In his book\, Sheldrake explains the expansive roles of fungi to help us understand how inexorably interwoven they are in the network of all life.   \nEnjoy Sheldrake’s award-winning book\, then join our February book club meeting to discuss his fascinating insights. \n  \nDate: Sunday\, February 27 \nTime: 7 p.m. – 8 p.m. \nVenue: Zoom meeting (details emailed once space is reserved). \n  \nREGISTER HERE \n  \nSpace limited; reservations required. \nFree (donations appreciated). \nCancellations notified via email. \nQuestions? Email programs@friendsofchinacamp.org or call (415) 456-0766.
URL:https://friendsofchinacamp.org/event/online-naturalist-book-club-7/
END:VEVENT
END:VCALENDAR