BEGIN:VCALENDAR
VERSION:2.0
PRODID:-//Friends of China Camp - ECPv6.15.20//NONSGML v1.0//EN
CALSCALE:GREGORIAN
METHOD:PUBLISH
X-WR-CALNAME:Friends of China Camp
X-ORIGINAL-URL:https://friendsofchinacamp.org
X-WR-CALDESC:Events for Friends of China Camp
REFRESH-INTERVAL;VALUE=DURATION:PT1H
X-Robots-Tag:noindex
X-PUBLISHED-TTL:PT1H
BEGIN:VTIMEZONE
TZID:America/Los_Angeles
BEGIN:DAYLIGHT
TZOFFSETFROM:-0800
TZOFFSETTO:-0700
TZNAME:PDT
DTSTART:20210314T100000
END:DAYLIGHT
BEGIN:STANDARD
TZOFFSETFROM:-0700
TZOFFSETTO:-0800
TZNAME:PST
DTSTART:20211107T090000
END:STANDARD
BEGIN:DAYLIGHT
TZOFFSETFROM:-0800
TZOFFSETTO:-0700
TZNAME:PDT
DTSTART:20220313T100000
END:DAYLIGHT
BEGIN:STANDARD
TZOFFSETFROM:-0700
TZOFFSETTO:-0800
TZNAME:PST
DTSTART:20221106T090000
END:STANDARD
BEGIN:DAYLIGHT
TZOFFSETFROM:-0800
TZOFFSETTO:-0700
TZNAME:PDT
DTSTART:20230312T100000
END:DAYLIGHT
BEGIN:STANDARD
TZOFFSETFROM:-0700
TZOFFSETTO:-0800
TZNAME:PST
DTSTART:20231105T090000
END:STANDARD
END:VTIMEZONE
BEGIN:VEVENT
DTSTART;TZID=America/Los_Angeles:20220303T080000
DTEND;TZID=America/Los_Angeles:20220311T170000
DTSTAMP:20260422T161918
CREATED:20220226T195139Z
LAST-MODIFIED:20220228T033332Z
UID:4659-1646294400-1647018000@friendsofchinacamp.org
SUMMARY:Trail Closures in Effect
DESCRIPTION:Beginning March 3\, a portion of Shoreline Trail will be closed for restoration until further notice. The Friends of China Camp volunteer trail team will be restoring the handicap-accessible portion of Shoreline Trail\, to ensure equitable access for people with mobility disabilities. \nPlease stay off closed areas\, trespassing could risk disturbing the sensitive trail conditions. Trail restoration takes hundreds of hours of volunteer time and park financial resources\, please be respectful and stay on the trail. \nThe section will include the connection from the Back Ranch Meadows Campground by campsite #1 to the gravel parking lot accross from Turtle Back Trailhead. Portions of that gravel parking lot will be closed. See map below for details. \nMap indicates the work area (white line) and detour (blue line). The parking lot across from Turtle Back Trailhead will be closed to the public during this time. A small section will be left open for foot and bike access between North San Pedro Road and Shoreline trail.
URL:https://friendsofchinacamp.org/event/trail-closures-in-effect-2/
END:VEVENT
END:VCALENDAR