BEGIN:VCALENDAR
VERSION:2.0
PRODID:-//Friends of China Camp - ECPv6.15.20//NONSGML v1.0//EN
CALSCALE:GREGORIAN
METHOD:PUBLISH
X-WR-CALNAME:Friends of China Camp
X-ORIGINAL-URL:https://friendsofchinacamp.org
X-WR-CALDESC:Events for Friends of China Camp
REFRESH-INTERVAL;VALUE=DURATION:PT1H
X-Robots-Tag:noindex
X-PUBLISHED-TTL:PT1H
BEGIN:VTIMEZONE
TZID:America/Los_Angeles
BEGIN:DAYLIGHT
TZOFFSETFROM:-0800
TZOFFSETTO:-0700
TZNAME:PDT
DTSTART:20210314T100000
END:DAYLIGHT
BEGIN:STANDARD
TZOFFSETFROM:-0700
TZOFFSETTO:-0800
TZNAME:PST
DTSTART:20211107T090000
END:STANDARD
BEGIN:DAYLIGHT
TZOFFSETFROM:-0800
TZOFFSETTO:-0700
TZNAME:PDT
DTSTART:20220313T100000
END:DAYLIGHT
BEGIN:STANDARD
TZOFFSETFROM:-0700
TZOFFSETTO:-0800
TZNAME:PST
DTSTART:20221106T090000
END:STANDARD
BEGIN:DAYLIGHT
TZOFFSETFROM:-0800
TZOFFSETTO:-0700
TZNAME:PDT
DTSTART:20230312T100000
END:DAYLIGHT
BEGIN:STANDARD
TZOFFSETFROM:-0700
TZOFFSETTO:-0800
TZNAME:PST
DTSTART:20231105T090000
END:STANDARD
END:VTIMEZONE
BEGIN:VEVENT
DTSTART;TZID=America/Los_Angeles:20221108T161500
DTEND;TZID=America/Los_Angeles:20221108T190000
DTSTAMP:20260422T151036
CREATED:20221001T205206Z
LAST-MODIFIED:20221108T182924Z
UID:5244-1667924100-1667934000@friendsofchinacamp.org
SUMMARY:CANCELLED: Full Moon Hike
DESCRIPTION:THIS EVENT HAS BEEN CANCELED DUE TO RAIN. CHECK OUR CALENDAR FOR UPCOMING EVENTS. Your heart will fill with wonder as we gaze into the sky during November’s full moon hike. On this moderate\, 4.5-mile round-trip hike\, we will ascend to one of the best vista points in the park to view the cream-colored moon as it rises over the sparkling bay. This month’s moon is named “Beaver Moon”. Though there are no beavers in the bay area\, around this time of year beavers in other parts of the United States retire to their dens\, with food stores ready for the long winter ahead. \nAs an exciting addition\, eager sky-gazers *on their own time* have the option to view a total lunar eclipse that will occur the early morning before the hike on November 8\, from 12:02 a.m. to 5 a.m..                                              \nDate: Tuesday\, November 8 \nTime:  4:15 p.m. – 7 p.m. \nLocation: Meeting location details emailed upon reservation.  \nDifficulty: Moderate\, 4.5 miles round trip \nWhat to bring: Warm clothing\, water\, flashlight or headlamp with spare batteries. Be sure to wear appropriate shoes for hiking.  \nNote: Hike begins at 4:15 p.m. sharp\, so don’t be late or you’ll miss the fun! \n  \nREGISTER HERE \n  \nFree for FOCC members; $5 for non-members. \nSpace is limited; reservations required. \nCancellations notified via email. \nQuestions? Email programs@friendsofchinacamp.org or call (415) 456-0766. \n  \nPhoto: Sheila Coll
URL:https://friendsofchinacamp.org/event/full-moon-hike-20/
END:VEVENT
END:VCALENDAR