BEGIN:VCALENDAR
VERSION:2.0
PRODID:-//Friends of China Camp - ECPv6.15.20//NONSGML v1.0//EN
CALSCALE:GREGORIAN
METHOD:PUBLISH
X-WR-CALNAME:Friends of China Camp
X-ORIGINAL-URL:https://friendsofchinacamp.org
X-WR-CALDESC:Events for Friends of China Camp
REFRESH-INTERVAL;VALUE=DURATION:PT1H
X-Robots-Tag:noindex
X-PUBLISHED-TTL:PT1H
BEGIN:VTIMEZONE
TZID:America/Los_Angeles
BEGIN:DAYLIGHT
TZOFFSETFROM:-0800
TZOFFSETTO:-0700
TZNAME:PDT
DTSTART:20210314T100000
END:DAYLIGHT
BEGIN:STANDARD
TZOFFSETFROM:-0700
TZOFFSETTO:-0800
TZNAME:PST
DTSTART:20211107T090000
END:STANDARD
BEGIN:DAYLIGHT
TZOFFSETFROM:-0800
TZOFFSETTO:-0700
TZNAME:PDT
DTSTART:20220313T100000
END:DAYLIGHT
BEGIN:STANDARD
TZOFFSETFROM:-0700
TZOFFSETTO:-0800
TZNAME:PST
DTSTART:20221106T090000
END:STANDARD
BEGIN:DAYLIGHT
TZOFFSETFROM:-0800
TZOFFSETTO:-0700
TZNAME:PDT
DTSTART:20230312T100000
END:DAYLIGHT
BEGIN:STANDARD
TZOFFSETFROM:-0700
TZOFFSETTO:-0800
TZNAME:PST
DTSTART:20231105T090000
END:STANDARD
END:VTIMEZONE
BEGIN:VEVENT
DTSTART;TZID=America/Los_Angeles:20221112T080000
DTEND;TZID=America/Los_Angeles:20221112T100000
DTSTAMP:20260420T114915
CREATED:20221101T060026Z
LAST-MODIFIED:20221101T060306Z
UID:5278-1668240000-1668247200@friendsofchinacamp.org
SUMMARY:Autumn Birding Hike
DESCRIPTION:This month’s birding hike will be a hoot. Pun intended. We will discuss the owl species that live at China Camp\, and their remarkable binocular eyesight and asymmetric ears. Both of these special adaptations contribute to an owl’s ability to rapidly triangulate the location of prey in low light and absolute darkness. Though we are unlikely to see any of these nocturnal creatures on our morning walk through Miwok Meadows\, by the end of the hike participants will be given helpful tips to increase the likelihood of viewing and identifying these fascinating nocturnal birds on their own time. \n We will review the four keys to identifying birds in the field learn about tools such as checklists\, atlases\, binoculars\, and telescopes. Participants will also learn how to identify birds by observing flight patterns\, noting body shapes and sizes\, hearing songs\, and watching behaviors. \n  \nDate: Saturday\, November 12 \nTime: 8 a.m. – 10 a.m. \nLocation: Turtle Back Trailhead \nWalking difficulty: Easy; 1½ miles  \n  \nREGISTER HERE \n  \nSpace is limited; reservations required.  \nFree (donations appreciated). \nCancellations notified via email. \nQuestions? Email programs@friendsofchinacamp.org or call (415) 456-0766. \n  \nPhoto: Great horned owl by Gustavo Vargas | Macaulay Library
URL:https://friendsofchinacamp.org/event/autumn-birding-hike-3/
END:VEVENT
BEGIN:VEVENT
DTSTART;TZID=America/Los_Angeles:20221112T100000
DTEND;TZID=America/Los_Angeles:20221112T120000
DTSTAMP:20260420T114915
CREATED:20221101T060747Z
LAST-MODIFIED:20221101T060916Z
UID:5281-1668247200-1668254400@friendsofchinacamp.org
SUMMARY:Junior Ranger Program
DESCRIPTION:Hoo’s coming to dinner? Lets do some detective work to find out about the owl species at China Camp and what… or who… are their favorite foods. During this month’s program\, Junior Rangers will have the opportunity to explore what these nocturnal creatures eat by dissecting *sterilized* owl pellets. Owls dont have any teeth\, so when they eat a creature\, they swallow it whole: fur\, bones\, everything. Because of this\, undigested fur and bones get spit back out into little pellets\, known as “owl pellets”. Join the fun as we use our scientific exploration tools to ID the remains to see what was in the owl’s dinner.  \n  \nDate: Sunday\, November 12 \nTime: 10 a.m. – noon \nLocation: China Camp Village Beach \nAges: ages 7 to 9  \n  \nREGISTER HERE \n  \nSpace is limited; reservations required. \nFree (donations appreciated). \nQuestions? Email programs@friendsofchinacamp.org or call (415) 456-0766. \nCancellations notified via email. \n  \nPhoto:Barn owl by Ian Davies | Macaulay Library
URL:https://friendsofchinacamp.org/event/junior-ranger-program-16/
END:VEVENT
END:VCALENDAR