BEGIN:VCALENDAR
VERSION:2.0
PRODID:-//Friends of China Camp - ECPv6.15.20//NONSGML v1.0//EN
CALSCALE:GREGORIAN
METHOD:PUBLISH
X-ORIGINAL-URL:https://friendsofchinacamp.org
X-WR-CALDESC:Events for Friends of China Camp
REFRESH-INTERVAL;VALUE=DURATION:PT1H
X-Robots-Tag:noindex
X-PUBLISHED-TTL:PT1H
BEGIN:VTIMEZONE
TZID:America/Los_Angeles
BEGIN:DAYLIGHT
TZOFFSETFROM:-0800
TZOFFSETTO:-0700
TZNAME:PDT
DTSTART:20220313T100000
END:DAYLIGHT
BEGIN:STANDARD
TZOFFSETFROM:-0700
TZOFFSETTO:-0800
TZNAME:PST
DTSTART:20221106T090000
END:STANDARD
BEGIN:DAYLIGHT
TZOFFSETFROM:-0800
TZOFFSETTO:-0700
TZNAME:PDT
DTSTART:20230312T100000
END:DAYLIGHT
BEGIN:STANDARD
TZOFFSETFROM:-0700
TZOFFSETTO:-0800
TZNAME:PST
DTSTART:20231105T090000
END:STANDARD
BEGIN:DAYLIGHT
TZOFFSETFROM:-0800
TZOFFSETTO:-0700
TZNAME:PDT
DTSTART:20240310T100000
END:DAYLIGHT
BEGIN:STANDARD
TZOFFSETFROM:-0700
TZOFFSETTO:-0800
TZNAME:PST
DTSTART:20241103T090000
END:STANDARD
END:VTIMEZONE
BEGIN:VEVENT
DTSTART;TZID=America/Los_Angeles:20230325T100000
DTEND;TZID=America/Los_Angeles:20230325T120000
DTSTAMP:20260423T193802
CREATED:20230310T192409Z
LAST-MODIFIED:20230310T193144Z
UID:5508-1679738400-1679745600@friendsofchinacamp.org
SUMMARY:Junior Ranger Program
DESCRIPTION:Come explore where water meets the land along the Turtle Back Nature Trail. Junior Rangers will discover all kinds of wonders along this 3/4 mile trail\, loaded with up-close experiences with plant and animal communities that live among the intersection of oak woodlands\, grasslands\, mud flats\, and tidal salt marsh. We will look at glittering crystals on salt grass\, listen for the zippy hum of Anna’s hummingbirds\, and quietly observe egrets as they deftly hunt for their lunch.  \n  \nDress in layers for the weather. Bring a filled water bottle\, snacks\, and sunscreen. \n  \nDate: Saturday\, March 25 \nTime: 10 a.m. – noon \nLocation: Turtle Back Trailhead \nDifficulty: Easy\, 3/4 mile \nAges: ages 7 to 9  \n  \nREGISTER HERE \n  \nSpace is limited; reservations required. \nFree (donations appreciated). \nQuestions? Email programs@friendsofchinacamp.org or call (415) 456-0766. \nCancellations notified via email. \n  \nPhoto: Sheila Coll
URL:https://friendsofchinacamp.org/event/junior-ranger-program-19/
END:VEVENT
END:VCALENDAR