BEGIN:VCALENDAR
VERSION:2.0
PRODID:-//Friends of China Camp - ECPv6.15.20//NONSGML v1.0//EN
CALSCALE:GREGORIAN
METHOD:PUBLISH
X-WR-CALNAME:Friends of China Camp
X-ORIGINAL-URL:https://friendsofchinacamp.org
X-WR-CALDESC:Events for Friends of China Camp
REFRESH-INTERVAL;VALUE=DURATION:PT1H
X-Robots-Tag:noindex
X-PUBLISHED-TTL:PT1H
BEGIN:VTIMEZONE
TZID:America/Los_Angeles
BEGIN:DAYLIGHT
TZOFFSETFROM:-0800
TZOFFSETTO:-0700
TZNAME:PDT
DTSTART:20240310T100000
END:DAYLIGHT
BEGIN:STANDARD
TZOFFSETFROM:-0700
TZOFFSETTO:-0800
TZNAME:PST
DTSTART:20241103T090000
END:STANDARD
BEGIN:DAYLIGHT
TZOFFSETFROM:-0800
TZOFFSETTO:-0700
TZNAME:PDT
DTSTART:20250309T100000
END:DAYLIGHT
BEGIN:STANDARD
TZOFFSETFROM:-0700
TZOFFSETTO:-0800
TZNAME:PST
DTSTART:20251102T090000
END:STANDARD
BEGIN:DAYLIGHT
TZOFFSETFROM:-0800
TZOFFSETTO:-0700
TZNAME:PDT
DTSTART:20260308T100000
END:DAYLIGHT
BEGIN:STANDARD
TZOFFSETFROM:-0700
TZOFFSETTO:-0800
TZNAME:PST
DTSTART:20261101T090000
END:STANDARD
END:VTIMEZONE
BEGIN:VEVENT
DTSTART;TZID=America/Los_Angeles:20251205T170000
DTEND;TZID=America/Los_Angeles:20251205T190000
DTSTAMP:20260420T133804
CREATED:20251114T164920Z
LAST-MODIFIED:20251130T221558Z
UID:8310-1764954000-1764961200@friendsofchinacamp.org
SUMMARY:Family fun: watch the “Long Night Moon” rise
DESCRIPTION:Bundle up the whole family and head to the picnic area at China Camp Point to watch 2025’s last full moon rise. No need to hike to an overlook this month\, since the easy-to-access point is the perfect place to catch this monthly spectacle. \nMohican tribes called this month’s lunar stunner the “Cold Moon\,” since it rises when temperatures dip in winter. Mohawk people called December’s moon the “Long Night Moon\,” rising as it does in the time of year when days shrink and nights stretch towards the winter solstice. No matter what you call it\, the moon will be particularly eye-popping this month as it slowly rises\, since it’s the time of year when the moon is closest to Earth. Note that sunset will be at 4:50 p.m.\, and moonrise will be a little after 5:30 p.m. Enjoy a cup of hot chocolate when you arrive\, courtesy of Friends of China Camp. \nThis is a family-friendly\, drop-in event; no registration required. Cancellation will be posted on our events calendar. \n  \nDate: Friday\, December 5 \nTime: 5 p.m. – 7 p.m. \nLocation: China Camp Point parking lot \nDifficulty: easy (no hiking) \nCost: free to FOCC members; $5 donation appreciated for non-members \nAges: all ages welcome; under 18 must be accompanied by a parent or responsible adult \nADA accessible: yes \nPhoto of moon at China Camp Village by Harriot Manley/FOCC volunteer
URL:https://friendsofchinacamp.org/event/family-fun-watch-the-long-night-moon-rise/
LOCATION:China Camp Village Point parking lot
CATEGORIES:Events
ORGANIZER;CN="Friends of China Camp":MAILTO:Info@friendsofchinacamp.org
END:VEVENT
END:VCALENDAR