BEGIN:VCALENDAR
VERSION:2.0
PRODID:-//Friends of China Camp - ECPv6.15.20//NONSGML v1.0//EN
CALSCALE:GREGORIAN
METHOD:PUBLISH
X-WR-CALNAME:Friends of China Camp
X-ORIGINAL-URL:https://friendsofchinacamp.org
X-WR-CALDESC:Events for Friends of China Camp
REFRESH-INTERVAL;VALUE=DURATION:PT1H
X-Robots-Tag:noindex
X-PUBLISHED-TTL:PT1H
BEGIN:VTIMEZONE
TZID:America/Los_Angeles
BEGIN:DAYLIGHT
TZOFFSETFROM:-0800
TZOFFSETTO:-0700
TZNAME:PDT
DTSTART:20250309T100000
END:DAYLIGHT
BEGIN:STANDARD
TZOFFSETFROM:-0700
TZOFFSETTO:-0800
TZNAME:PST
DTSTART:20251102T090000
END:STANDARD
BEGIN:DAYLIGHT
TZOFFSETFROM:-0800
TZOFFSETTO:-0700
TZNAME:PDT
DTSTART:20260308T100000
END:DAYLIGHT
BEGIN:STANDARD
TZOFFSETFROM:-0700
TZOFFSETTO:-0800
TZNAME:PST
DTSTART:20261101T090000
END:STANDARD
BEGIN:DAYLIGHT
TZOFFSETFROM:-0800
TZOFFSETTO:-0700
TZNAME:PDT
DTSTART:20270314T100000
END:DAYLIGHT
BEGIN:STANDARD
TZOFFSETFROM:-0700
TZOFFSETTO:-0800
TZNAME:PST
DTSTART:20271107T090000
END:STANDARD
END:VTIMEZONE
BEGIN:VEVENT
DTSTART;TZID=America/Los_Angeles:20260523T100000
DTEND;TZID=America/Los_Angeles:20260523T120000
DTSTAMP:20260423T190157
CREATED:20260422T211718Z
LAST-MODIFIED:20260422T212351Z
UID:8658-1779530400-1779537600@friendsofchinacamp.org
SUMMARY:Junior Rangers: Scavenger hunt
DESCRIPTION:What kid doesn’t love a scavenger hunt? Let your little ones search for natural treasures at this fun event at China Camp Village. As they explore\, children will be encouraged to observe\, notice\, and ask questions about the natural world around them. Along the way\, they’ll engage in activities to earn special prizes. \nEach child will receive an official California State Parks Junior Ranger Logbook—an interactive way to explore and learn at this and other parks statewide. At the end of the event\, your child can take part in a special Junior Rangers ceremony\, recognizing each participant’s effort and commitment to learning about and caring for the environment. \nDrop-in event; no registration required. Cancellation will be posted on our website events page.\nDate: Saturday\, May 23\nTime: 10 a.m. – noon\nLocation: China Camp Village deck\nCost: free to FOCC members\, $5 donation appreciated for non-members\nAges: 10 and older; under 18 must be accompanied by a parent or responsible adult
URL:https://friendsofchinacamp.org/event/junior-rangers-scavenger-hunt/
LOCATION:China Camp Village\, 100 China Camp Village Rd\, San Rafael\, CA\, CA\, 94901\, United States
CATEGORIES:Events
ORGANIZER;CN="Friends of China Camp":MAILTO:Info@friendsofchinacamp.org
END:VEVENT
BEGIN:VEVENT
DTSTART;TZID=America/Los_Angeles:20260523T200000
DTEND;TZID=America/Los_Angeles:20260523T210000
DTSTAMP:20260423T190157
CREATED:20260422T211401Z
LAST-MODIFIED:20260422T211401Z
UID:8656-1779566400-1779570000@friendsofchinacamp.org
SUMMARY:Birding walk: Things that go bump in the night 
DESCRIPTION:  \nAre you curious about the creatures that come alive after dark? Join us for an exciting night hike in the park. As dusk falls\, we’ll explore the trails around the campground\, keying in the sounds of the darkening forest. We hope to catch the hoot of a great-horned owl\, or the soft chur of a tiny Western screech owl. And we will look up into the twilight\, catching the silhouette of bats as they whirl through the air\, using sonar to locate flying insects. Experience the hidden side of nature that only comes alive after the sun sets. \nSpace is limited; registration is required. Cancellation notified via email. \nDate: Saturday\, May 23\nTime: 8 p.m. – 9 p.m.\nLocation: Back Ranch Meadows Campground kiosk\nDifficulty: easy (1 to 2 miles on a gently rolling trail)\nCost: free to FOCC members\, $5 donation appreciated for non-members\nAges: 10 and older; under 18 must be accompanied by a parent or responsible adult \nRESERVE NOW
URL:https://friendsofchinacamp.org/event/birding-walk-things-that-go-bump-in-the-night/
LOCATION:Back Ranch Meadows Campground
CATEGORIES:Events
ORGANIZER;CN="Friends of China Camp":MAILTO:Info@friendsofchinacamp.org
END:VEVENT
END:VCALENDAR