BEGIN:VCALENDAR
VERSION:2.0
PRODID:-//Friends of China Camp - ECPv6.15.20//NONSGML v1.0//EN
CALSCALE:GREGORIAN
METHOD:PUBLISH
X-WR-CALNAME:Friends of China Camp
X-ORIGINAL-URL:https://friendsofchinacamp.org
X-WR-CALDESC:Events for Friends of China Camp
REFRESH-INTERVAL;VALUE=DURATION:PT1H
X-Robots-Tag:noindex
X-PUBLISHED-TTL:PT1H
BEGIN:VTIMEZONE
TZID:America/Los_Angeles
BEGIN:DAYLIGHT
TZOFFSETFROM:-0800
TZOFFSETTO:-0700
TZNAME:PDT
DTSTART:20210314T100000
END:DAYLIGHT
BEGIN:STANDARD
TZOFFSETFROM:-0700
TZOFFSETTO:-0800
TZNAME:PST
DTSTART:20211107T090000
END:STANDARD
BEGIN:DAYLIGHT
TZOFFSETFROM:-0800
TZOFFSETTO:-0700
TZNAME:PDT
DTSTART:20220313T100000
END:DAYLIGHT
BEGIN:STANDARD
TZOFFSETFROM:-0700
TZOFFSETTO:-0800
TZNAME:PST
DTSTART:20221106T090000
END:STANDARD
BEGIN:DAYLIGHT
TZOFFSETFROM:-0800
TZOFFSETTO:-0700
TZNAME:PDT
DTSTART:20230312T100000
END:DAYLIGHT
BEGIN:STANDARD
TZOFFSETFROM:-0700
TZOFFSETTO:-0800
TZNAME:PST
DTSTART:20231105T090000
END:STANDARD
END:VTIMEZONE
BEGIN:VEVENT
DTSTART;TZID=America/Los_Angeles:20221108T161500
DTEND;TZID=America/Los_Angeles:20221108T190000
DTSTAMP:20260420T114905
CREATED:20221001T205206Z
LAST-MODIFIED:20221108T182924Z
UID:5244-1667924100-1667934000@friendsofchinacamp.org
SUMMARY:CANCELLED: Full Moon Hike
DESCRIPTION:THIS EVENT HAS BEEN CANCELED DUE TO RAIN. CHECK OUR CALENDAR FOR UPCOMING EVENTS. Your heart will fill with wonder as we gaze into the sky during November’s full moon hike. On this moderate\, 4.5-mile round-trip hike\, we will ascend to one of the best vista points in the park to view the cream-colored moon as it rises over the sparkling bay. This month’s moon is named “Beaver Moon”. Though there are no beavers in the bay area\, around this time of year beavers in other parts of the United States retire to their dens\, with food stores ready for the long winter ahead. \nAs an exciting addition\, eager sky-gazers *on their own time* have the option to view a total lunar eclipse that will occur the early morning before the hike on November 8\, from 12:02 a.m. to 5 a.m..                                              \nDate: Tuesday\, November 8 \nTime:  4:15 p.m. – 7 p.m. \nLocation: Meeting location details emailed upon reservation.  \nDifficulty: Moderate\, 4.5 miles round trip \nWhat to bring: Warm clothing\, water\, flashlight or headlamp with spare batteries. Be sure to wear appropriate shoes for hiking.  \nNote: Hike begins at 4:15 p.m. sharp\, so don’t be late or you’ll miss the fun! \n  \nREGISTER HERE \n  \nFree for FOCC members; $5 for non-members. \nSpace is limited; reservations required. \nCancellations notified via email. \nQuestions? Email programs@friendsofchinacamp.org or call (415) 456-0766. \n  \nPhoto: Sheila Coll
URL:https://friendsofchinacamp.org/event/full-moon-hike-20/
END:VEVENT
BEGIN:VEVENT
DTSTART;TZID=America/Los_Angeles:20221112T080000
DTEND;TZID=America/Los_Angeles:20221112T100000
DTSTAMP:20260420T114905
CREATED:20221101T060026Z
LAST-MODIFIED:20221101T060306Z
UID:5278-1668240000-1668247200@friendsofchinacamp.org
SUMMARY:Autumn Birding Hike
DESCRIPTION:This month’s birding hike will be a hoot. Pun intended. We will discuss the owl species that live at China Camp\, and their remarkable binocular eyesight and asymmetric ears. Both of these special adaptations contribute to an owl’s ability to rapidly triangulate the location of prey in low light and absolute darkness. Though we are unlikely to see any of these nocturnal creatures on our morning walk through Miwok Meadows\, by the end of the hike participants will be given helpful tips to increase the likelihood of viewing and identifying these fascinating nocturnal birds on their own time. \n We will review the four keys to identifying birds in the field learn about tools such as checklists\, atlases\, binoculars\, and telescopes. Participants will also learn how to identify birds by observing flight patterns\, noting body shapes and sizes\, hearing songs\, and watching behaviors. \n  \nDate: Saturday\, November 12 \nTime: 8 a.m. – 10 a.m. \nLocation: Turtle Back Trailhead \nWalking difficulty: Easy; 1½ miles  \n  \nREGISTER HERE \n  \nSpace is limited; reservations required.  \nFree (donations appreciated). \nCancellations notified via email. \nQuestions? Email programs@friendsofchinacamp.org or call (415) 456-0766. \n  \nPhoto: Great horned owl by Gustavo Vargas | Macaulay Library
URL:https://friendsofchinacamp.org/event/autumn-birding-hike-3/
END:VEVENT
BEGIN:VEVENT
DTSTART;TZID=America/Los_Angeles:20221112T100000
DTEND;TZID=America/Los_Angeles:20221112T120000
DTSTAMP:20260420T114905
CREATED:20221101T060747Z
LAST-MODIFIED:20221101T060916Z
UID:5281-1668247200-1668254400@friendsofchinacamp.org
SUMMARY:Junior Ranger Program
DESCRIPTION:Hoo’s coming to dinner? Lets do some detective work to find out about the owl species at China Camp and what… or who… are their favorite foods. During this month’s program\, Junior Rangers will have the opportunity to explore what these nocturnal creatures eat by dissecting *sterilized* owl pellets. Owls dont have any teeth\, so when they eat a creature\, they swallow it whole: fur\, bones\, everything. Because of this\, undigested fur and bones get spit back out into little pellets\, known as “owl pellets”. Join the fun as we use our scientific exploration tools to ID the remains to see what was in the owl’s dinner.  \n  \nDate: Sunday\, November 12 \nTime: 10 a.m. – noon \nLocation: China Camp Village Beach \nAges: ages 7 to 9  \n  \nREGISTER HERE \n  \nSpace is limited; reservations required. \nFree (donations appreciated). \nQuestions? Email programs@friendsofchinacamp.org or call (415) 456-0766. \nCancellations notified via email. \n  \nPhoto:Barn owl by Ian Davies | Macaulay Library
URL:https://friendsofchinacamp.org/event/junior-ranger-program-16/
END:VEVENT
BEGIN:VEVENT
DTSTART;TZID=America/Los_Angeles:20221118T170000
DTEND;TZID=America/Los_Angeles:20221118T180000
DTSTAMP:20260420T114905
CREATED:20221101T061950Z
LAST-MODIFIED:20221101T062438Z
UID:5284-1668790800-1668794400@friendsofchinacamp.org
SUMMARY:Village Talk: NorCal Bats
DESCRIPTION:We are pleased to welcome special guest appearances of live California native bats during November’s Village Talk. Corky Quirk from NorCal Bats will reveal the hidden lives and features of these specialized  nocturnal creatures. You will discover the diversity of native bat species in your local neighborhood\, and learn how these delicate aerial beings communicate and navigate under the cover of darkness. You will also learn fascinating details about their physiology\, diet and life cycle. All ages are welcome to this fascinating presentation. \n  \nCorky Quirk is the founder and manager of NorCal Bats\, a Sacramento based organization dedicated to the rescue\, rehabilitation and release of bats throughout Northern California.  She has a degree in natural resources from Humboldt State University and she currently resides in Yolo County. \n                                                 \nDate: Friday\, November 18 \nTime:  5:00 p.m. – 6 p.m. \nLocation: China Camp Village Museum \nWhat to bring: Warm clothing. \n  \nREGISTER HERE \n  \nFree for FOCC members; $5 for non-members. \nSpace is limited; reservations required. \nCancellations notified via email. \nQuestions? Email programs@friendsofchinacamp.org or call (415) 456-0766. \n  \nPhoto: Bat by Corky Quirk
URL:https://friendsofchinacamp.org/event/village-talk-norcal-bats-2/
END:VEVENT
BEGIN:VEVENT
DTSTART;TZID=America/Los_Angeles:20221125T100000
DTEND;TZID=America/Los_Angeles:20221125T120000
DTSTAMP:20260420T114905
CREATED:20221101T064019Z
LAST-MODIFIED:20221101T064132Z
UID:5287-1669370400-1669377600@friendsofchinacamp.org
SUMMARY:Thanksgiving Leftovers Hike
DESCRIPTION:What could be a better activity to do the day after one of the biggest meals of the year\, than to stretch our legs and get some exercise in the crisp autumn air. Join us for our day-after-Thanksgiving Day family hike\, where we will look for ripening seeds\, burrows\, and new glistening spider webs – all signs of the preparations made by local flora and fauna for the wet winter season ahead. The hike will be around two miles based on group preference and weather.  \n  \nDate: Friday\, November 25 \nTime:  10 a.m. –  noon \nLocation: Meeting location details emailed upon reservation.  \nDifficulty: Moderate\, 2 miles round trip \nWhat to bring: Weather-appropriate clothing and shoes and a filled water bottle. \nNote: Heavy rain or winds will cancel this event. You will be notified of cancellation via email.  \n  \nREGISTER HERE \n  \nFree for FOCC members; $5 for non-members. \nSpace is limited; reservations required. \nCancellations notified via email. \nQuestions? Email programs@friendsofchinacamp.org or call (415) 456-0766. \n  \nPhoto: Sheila Coll
URL:https://friendsofchinacamp.org/event/thanksgiving-leftovers-hike/
END:VEVENT
BEGIN:VEVENT
DTSTART;TZID=America/Los_Angeles:20221126T080000
DTEND;TZID=America/Los_Angeles:20221126T170000
DTSTAMP:20260420T114905
CREATED:20221127T010436Z
LAST-MODIFIED:20221127T010436Z
UID:5329-1669449600-1669482000@friendsofchinacamp.org
SUMMARY:POSTPONED: Naturalist Book Club
DESCRIPTION:December’s naturalist book club has been postponed to January 29th\, 2023 due to the holiday. Happy Holidays! \nSee calendar for January’s program.\n  \n 
URL:https://friendsofchinacamp.org/event/postponed-naturalist-book-club/
END:VEVENT
BEGIN:VEVENT
DTSTART;TZID=America/Los_Angeles:20221127T190000
DTEND;TZID=America/Los_Angeles:20221127T200000
DTSTAMP:20260420T114905
CREATED:20221101T064921Z
LAST-MODIFIED:20221101T065305Z
UID:5290-1669575600-1669579200@friendsofchinacamp.org
SUMMARY:Naturalist Book Club
DESCRIPTION:Join us for this month’s book club as we discuss Tsim Schneiders book\, The Archaeology of Refuge and Recourse. Schneider is a professor of archaeology at University of California\, Santa Cruz and a tribal member of the Federated Indians of Graton Rancheria. \nExcerpt from uapress.arizona.edu: \n“The Archaeology of Refuge and Recourse explores the dual practices of refuge and recourse among Indigenous peoples of California. From the eighteenth to the twentieth century\, Indigenous Coast Miwok communities in California persisted throughout multiple waves of colonial intrusion. But to what ends? \nApplying theories of place and landscape\, social memory\, and mobility to the analysis of six archaeological sites\, Tsim D. Schneider argues for a new direction in the archaeology of colonialism. This book offers insight about the critical and ongoing relationships Indigenous people maintained to their homelands despite colonization and systematic destruction of their cultural sites…” \n  \n  \nDate: Sunday\, November 27 \nTime: 7 p.m. – 8 p.m. \nVenue: Zoom Meeting \n  \nREGISTER HERE \n  \nSpace is limited; reservations required. \nFree (donations appreciated). \nCancellations notified via email. \nQuestions? Email programs@friendsofchinacamp.org or call (415) 456-0766.
URL:https://friendsofchinacamp.org/event/naturalist-book-club-25/
END:VEVENT
END:VCALENDAR